BEGIN:VCALENDAR
VERSION:2.0
PRODID:-//Just Natural - ECPv6.15.20//NONSGML v1.0//EN
CALSCALE:GREGORIAN
METHOD:PUBLISH
X-ORIGINAL-URL:https://justnaturalveg.com
X-WR-CALDESC:Events for Just Natural
REFRESH-INTERVAL;VALUE=DURATION:PT1H
X-Robots-Tag:noindex
X-PUBLISHED-TTL:PT1H
BEGIN:VTIMEZONE
TZID:Indian/Mauritius
BEGIN:STANDARD
TZOFFSETFROM:+0400
TZOFFSETTO:+0400
TZNAME:+04
DTSTART:20250101T000000
END:STANDARD
END:VTIMEZONE
BEGIN:VEVENT
DTSTART;TZID=Indian/Mauritius:20260221T180000
DTEND;TZID=Indian/Mauritius:20260221T210000
DTSTAMP:20260424T034133
CREATED:20260123T063449Z
LAST-MODIFIED:20260212T104729Z
UID:19178-1771696800-1771707600@justnaturalveg.com
SUMMARY:Kiss The Ground screening event
DESCRIPTION:  \n \nCome & watch the hopeful documentary Kiss The Ground at our farm and have a discussion afterwards about what this could mean for Mauritius. \nFree event thanks to the sponsors backing this film. \n\nBring & share.\nLimited spots available. \nReserve yours with WhatsApp message to 5721 3936.
URL:https://justnaturalveg.com/event/kiss-the-ground-screening-event/
LOCATION:Just Natural
END:VEVENT
END:VCALENDAR