BEGIN:VCALENDAR
VERSION:2.0
PRODID:-//Just Natural - ECPv6.15.20//NONSGML v1.0//EN
CALSCALE:GREGORIAN
METHOD:PUBLISH
X-ORIGINAL-URL:https://justnaturalveg.com
X-WR-CALDESC:Events for Just Natural
REFRESH-INTERVAL;VALUE=DURATION:PT1H
X-Robots-Tag:noindex
X-PUBLISHED-TTL:PT1H
BEGIN:VTIMEZONE
TZID:Indian/Mauritius
BEGIN:STANDARD
TZOFFSETFROM:+0400
TZOFFSETTO:+0400
TZNAME:+04
DTSTART:20250101T000000
END:STANDARD
END:VTIMEZONE
BEGIN:VEVENT
DTSTART;TZID=Indian/Mauritius:20260405T090000
DTEND;TZID=Indian/Mauritius:20260405T113000
DTSTAMP:20260423T234157
CREATED:20260324T073700Z
LAST-MODIFIED:20260324T073700Z
UID:19212-1775379600-1775388600@justnaturalveg.com
SUMMARY:Guided Farm Tour
DESCRIPTION:Every first Sunday morning of the month we open our gates to visitors for an engaging\, interactive tour of our farm. \nThe gates are open as from 9 am; the farm tour starts at 9.30 am. The guided tour is on a “Give What You Can” basis. \nThe number of visitors admitted is limited to 15\, so don’t wait too long and reserve your spot here \nGuided Farm Tour explained
URL:https://justnaturalveg.com/event/guided-farm-tour-4/
LOCATION:Just Natural
END:VEVENT
END:VCALENDAR