BEGIN:VCALENDAR
VERSION:2.0
PRODID:-//Just Natural - ECPv6.15.20//NONSGML v1.0//EN
CALSCALE:GREGORIAN
METHOD:PUBLISH
X-ORIGINAL-URL:https://justnaturalveg.com
X-WR-CALDESC:Events for Just Natural
REFRESH-INTERVAL;VALUE=DURATION:PT1H
X-Robots-Tag:noindex
X-PUBLISHED-TTL:PT1H
BEGIN:VTIMEZONE
TZID:Indian/Mauritius
BEGIN:STANDARD
TZOFFSETFROM:+0400
TZOFFSETTO:+0400
TZNAME:+04
DTSTART:20250101T000000
END:STANDARD
END:VTIMEZONE
BEGIN:VEVENT
DTSTART;TZID=Indian/Mauritius:20260503T090000
DTEND;TZID=Indian/Mauritius:20260503T113000
DTSTAMP:20260424T014221
CREATED:20260403T134753Z
LAST-MODIFIED:20260403T134753Z
UID:19214-1777798800-1777807800@justnaturalveg.com
SUMMARY:Guided Farm Tour
DESCRIPTION:Every first Sunday morning of the month\, we open our gates to visitors for an engaging\, interactive tour of our farm. \nThe gates are open as from 9 am; the farm tour starts at 09.30 am. The guided tour is on a “Give What You Can” basis. \nThe number of visitors admitted is limited to 15\, so don’t wait too long and reserve your spot here. \nGuided Farm Tour explained
URL:https://justnaturalveg.com/event/guided-farm-tour-5/
LOCATION:Just Natural
END:VEVENT
BEGIN:VEVENT
DTSTART;TZID=Indian/Mauritius:20260531T080000
DTEND;TZID=Indian/Mauritius:20260531T103000
DTSTAMP:20260424T014221
CREATED:20260410T111739Z
LAST-MODIFIED:20260414T064907Z
UID:19229-1780214400-1780223400@justnaturalveg.com
SUMMARY:Slow morning
DESCRIPTION:Some Sundays deserve to be different. Disconnect to reconnect. \nEvery end of the month\, Just Natural opens its gates for a slow morning: no agenda\, no performance\, no phones. A grounding exercise to arrive\, a silent walk through the garden\, a shared breakfast\, and a quiet moment to close the month with intention. \nWe’ll write down what we want to leave behind and what we want to carry forward. \nBring something to share for breakfast. Show up as you are.\nSmall group\, max. 8\, free. \nRSVP: mob. 5721 3936
URL:https://justnaturalveg.com/event/slow-morning-monthly-event/
LOCATION:Just Natural
END:VEVENT
BEGIN:VEVENT
DTSTART;TZID=Indian/Mauritius:20260607T090000
DTEND;TZID=Indian/Mauritius:20260607T113000
DTSTAMP:20260424T014221
CREATED:20260410T091103Z
LAST-MODIFIED:20260410T091103Z
UID:19217-1780822800-1780831800@justnaturalveg.com
SUMMARY:Guided Farm Tour
DESCRIPTION:Every first Sunday morning of the month\, we open our gates to visitors for an engaging\, interactive tour of our farm. \nThe gates are open as from 9 am; the farm tour starts at 09.30 am. The guided tour is on a “Give What You Can” basis. \nThe number of visitors admitted is limited to 15\, so don’t wait too long and reserve your spot by sending us a message on mobile no. 5721 3936. \nGuided Farm Tour explained
URL:https://justnaturalveg.com/event/guided-farm-tour-6/
LOCATION:Just Natural
END:VEVENT
BEGIN:VEVENT
DTSTART;TZID=Indian/Mauritius:20260628T080000
DTEND;TZID=Indian/Mauritius:20260628T103000
DTSTAMP:20260424T014221
CREATED:20260410T112101Z
LAST-MODIFIED:20260414T064738Z
UID:19231-1782633600-1782642600@justnaturalveg.com
SUMMARY:Slow morning
DESCRIPTION:Some Sundays deserve to be different. Disconnect to reconnect. \nEvery end of the month\, Just Natural opens its gates for a slow morning: no agenda\, no performance\, no phones. A grounding exercise to arrive\, a silent walk through the garden\, a shared breakfast\, and a quiet moment to close the month with intention. \nWe’ll write down what we want to leave behind and what we want to carry forward. \nBring something to share for breakfast. Show up as you are.\nSmall group\, max. 8\, free. \nRSVP: mob. 5721 3936
URL:https://justnaturalveg.com/event/slow-morning-monthly-event-2/
LOCATION:Just Natural
END:VEVENT
BEGIN:VEVENT
DTSTART;TZID=Indian/Mauritius:20260705T090000
DTEND;TZID=Indian/Mauritius:20260705T113000
DTSTAMP:20260424T014221
CREATED:20260410T091158Z
LAST-MODIFIED:20260410T091158Z
UID:19219-1783242000-1783251000@justnaturalveg.com
SUMMARY:Guided Farm Tour
DESCRIPTION:Every first Sunday morning of the month\, we open our gates to visitors for an engaging\, interactive tour of our farm. \nThe gates are open as from 9 am; the farm tour starts at 09.30 am. The guided tour is on a “Give What You Can” basis. \nThe number of visitors admitted is limited to 15\, so don’t wait too long and reserve your spot by sending us a message on mobile no. 5721 3936. \nGuided Farm Tour explained
URL:https://justnaturalveg.com/event/guided-farm-tour-7/
LOCATION:Just Natural
END:VEVENT
BEGIN:VEVENT
DTSTART;TZID=Indian/Mauritius:20260802T090000
DTEND;TZID=Indian/Mauritius:20260802T113000
DTSTAMP:20260424T014221
CREATED:20260410T091259Z
LAST-MODIFIED:20260410T091259Z
UID:19221-1785661200-1785670200@justnaturalveg.com
SUMMARY:Guided Farm Tour
DESCRIPTION:Every first Sunday morning of the month\, we open our gates to visitors for an engaging\, interactive tour of our farm. \nThe gates are open as from 9 am; the farm tour starts at 09.30 am. The guided tour is on a “Give What You Can” basis. \nThe number of visitors admitted is limited to 15\, so don’t wait too long and reserve your spot by sending us a message on mobile no. 5721 3936. \nGuided Farm Tour explained
URL:https://justnaturalveg.com/event/guided-farm-tour-8/
LOCATION:Just Natural
END:VEVENT
BEGIN:VEVENT
DTSTART;TZID=Indian/Mauritius:20260906T090000
DTEND;TZID=Indian/Mauritius:20260906T113000
DTSTAMP:20260424T014221
CREATED:20260410T091351Z
LAST-MODIFIED:20260410T091351Z
UID:19223-1788685200-1788694200@justnaturalveg.com
SUMMARY:Guided Farm Tour
DESCRIPTION:Every first Sunday morning of the month\, we open our gates to visitors for an engaging\, interactive tour of our farm. \nThe gates are open as from 9 am; the farm tour starts at 09.30 am. The guided tour is on a “Give What You Can” basis. \nThe number of visitors admitted is limited to 15\, so don’t wait too long and reserve your spot by sending us a message on mobile no. 5721 3936. \nGuided Farm Tour explained
URL:https://justnaturalveg.com/event/guided-farm-tour-9/
LOCATION:Just Natural
END:VEVENT
BEGIN:VEVENT
DTSTART;TZID=Indian/Mauritius:20261004T090000
DTEND;TZID=Indian/Mauritius:20261004T113000
DTSTAMP:20260424T014221
CREATED:20260410T091443Z
LAST-MODIFIED:20260410T091443Z
UID:19225-1791104400-1791113400@justnaturalveg.com
SUMMARY:Guided Farm Tour
DESCRIPTION:Every first Sunday morning of the month\, we open our gates to visitors for an engaging\, interactive tour of our farm. \nThe gates are open as from 9 am; the farm tour starts at 09.30 am. The guided tour is on a “Give What You Can” basis. \nThe number of visitors admitted is limited to 15\, so don’t wait too long and reserve your spot by sending us a message on mobile no. 5721 3936. \nGuided Farm Tour explained
URL:https://justnaturalveg.com/event/guided-farm-tour-10/
LOCATION:Just Natural
END:VEVENT
BEGIN:VEVENT
DTSTART;TZID=Indian/Mauritius:20261101T090000
DTEND;TZID=Indian/Mauritius:20261101T113000
DTSTAMP:20260424T014221
CREATED:20260410T091530Z
LAST-MODIFIED:20260410T091530Z
UID:19227-1793523600-1793532600@justnaturalveg.com
SUMMARY:Guided Farm Tour
DESCRIPTION:Every first Sunday morning of the month\, we open our gates to visitors for an engaging\, interactive tour of our farm. \nThe gates are open as from 9 am; the farm tour starts at 09.30 am. The guided tour is on a “Give What You Can” basis. \nThe number of visitors admitted is limited to 15\, so don’t wait too long and reserve your spot by sending us a message on mobile no. 5721 3936. \nGuided Farm Tour explained
URL:https://justnaturalveg.com/event/guided-farm-tour-11/
LOCATION:Just Natural
END:VEVENT
END:VCALENDAR