BEGIN:VCALENDAR
VERSION:2.0
PRODID:-//Just Natural - ECPv6.15.20//NONSGML v1.0//EN
CALSCALE:GREGORIAN
METHOD:PUBLISH
X-WR-CALNAME:Just Natural
X-ORIGINAL-URL:https://justnaturalveg.com
X-WR-CALDESC:Events for Just Natural
REFRESH-INTERVAL;VALUE=DURATION:PT1H
X-Robots-Tag:noindex
X-PUBLISHED-TTL:PT1H
BEGIN:VTIMEZONE
TZID:Indian/Mauritius
BEGIN:STANDARD
TZOFFSETFROM:+0400
TZOFFSETTO:+0400
TZNAME:+04
DTSTART:20210101T000000
END:STANDARD
END:VTIMEZONE
BEGIN:VEVENT
DTSTART;TZID=Indian/Mauritius:20221218T100000
DTEND;TZID=Indian/Mauritius:20221218T140000
DTSTAMP:20260425T195224
CREATED:20221209T132243Z
LAST-MODIFIED:20221209T132243Z
UID:14241-1671357600-1671372000@justnaturalveg.com
SUMMARY:Vide Grenier - Christmas garage sale for families in need
DESCRIPTION:We are hosting a “vide grenier”\, a garage sale\, at Just Natural on Sunday 18 December 2023. \nA good part of the money raised will be used to buy groceries for one or more families to make their Christmas a truly festive one. \nThere will be stalls with clothing\, shoes\, bags\, lingerie\, second-hand and new dishes…. items for sale start as low as Rs 5! There will of course also be an F&B corner to quench your thirst and/or treat your stomach to something tasty. \nThe PILS association will also be present for those who wish to know their serological status.
URL:https://justnaturalveg.com/event/vide-grenier-christmas-garage-sale-for-families-in-need/
LOCATION:Just Natural
END:VEVENT
BEGIN:VEVENT
DTSTART;TZID=Indian/Mauritius:20221030T100000
DTEND;TZID=Indian/Mauritius:20221030T153000
DTSTAMP:20260425T195224
CREATED:20221021T112834Z
LAST-MODIFIED:20221021T112834Z
UID:13930-1667124000-1667143800@justnaturalveg.com
SUMMARY:La déconnexion pour se reconnecter
DESCRIPTION:
URL:https://justnaturalveg.com/event/la-deconnexion-pour-se-reconnecter/
LOCATION:Just Natural
END:VEVENT
BEGIN:VEVENT
DTSTART;TZID=Indian/Mauritius:20220903T090000
DTEND;TZID=Indian/Mauritius:20220903T123000
DTSTAMP:20260425T195224
CREATED:20220807T095931Z
LAST-MODIFIED:20220807T095931Z
UID:13213-1662195600-1662208200@justnaturalveg.com
SUMMARY:Kindergarten for adults
DESCRIPTION:Missed out on the Kindergarten for Adults last Saturday 6 August? No worries\, we got you. Next one is scheduled for Saturday 3 September! \nMore details and registration form will be available soon.
URL:https://justnaturalveg.com/event/kindergarten-for-adults-2/
LOCATION:Just Natural
END:VEVENT
BEGIN:VEVENT
DTSTART;TZID=Indian/Mauritius:20220806T090000
DTEND;TZID=Indian/Mauritius:20220806T123000
DTSTAMP:20260425T195224
CREATED:20220804T082821Z
LAST-MODIFIED:20220804T082821Z
UID:13160-1659776400-1659789000@justnaturalveg.com
SUMMARY:Kindergarten for adults
DESCRIPTION:
URL:https://justnaturalveg.com/event/kindergarten-for-adults/
LOCATION:Just Natural
END:VEVENT
END:VCALENDAR