BEGIN:VCALENDAR
VERSION:2.0
PRODID:-//Just Natural - ECPv6.15.20//NONSGML v1.0//EN
CALSCALE:GREGORIAN
METHOD:PUBLISH
X-ORIGINAL-URL:https://justnaturalveg.com
X-WR-CALDESC:Events for Just Natural
REFRESH-INTERVAL;VALUE=DURATION:PT1H
X-Robots-Tag:noindex
X-PUBLISHED-TTL:PT1H
BEGIN:VTIMEZONE
TZID:Indian/Mauritius
BEGIN:STANDARD
TZOFFSETFROM:+0400
TZOFFSETTO:+0400
TZNAME:+04
DTSTART:20250101T000000
END:STANDARD
END:VTIMEZONE
BEGIN:VEVENT
DTSTART;TZID=Indian/Mauritius:20260307T180000
DTEND;TZID=Indian/Mauritius:20260307T220000
DTSTAMP:20260424T000031
CREATED:20260216T193544Z
LAST-MODIFIED:20260216T193544Z
UID:19186-1772906400-1772920800@justnaturalveg.com
SUMMARY:The Table Turners
DESCRIPTION:Real connection around real tables \nIn honour of International Women’s Day 2026\, curious and courageous women (and allies) will gather around tables worldwide to explore what it means to lead\, love\, and live fully. These aren’t just dinners. They’re spaces to laugh\, learn\, and have conversations that remind us we’re all work in progress\, and… we’re not alone! \nJoin the movement: TheTableTurners.space to learn more or host your own table!
URL:https://justnaturalveg.com/event/the-table-turners/
LOCATION:Just Natural
END:VEVENT
BEGIN:VEVENT
DTSTART;TZID=Indian/Mauritius:20260328T073000
DTEND;TZID=Indian/Mauritius:20260328T113000
DTSTAMP:20260424T000031
CREATED:20260324T072639Z
LAST-MODIFIED:20260324T073019Z
UID:19207-1774683000-1774697400@justnaturalveg.com
SUMMARY:Call for Volunteers - we need your support!
DESCRIPTION:We are looking for passionate volunteers to help us prepare our gardens for the new growing season. \nHave you always wanted to know how to prepare garden beds? \nCome and join our team\, and learn while doing! \nRegister on WhatsApp 5721 3936. \nhttps://justnaturalveg.com/wp-content/uploads/2026/03/v1c044g50000d70ioavog65qsn6uudpg.mp4
URL:https://justnaturalveg.com/event/call-for-volunteers-we-need-your-support/
LOCATION:Just Natural
END:VEVENT
BEGIN:VEVENT
DTSTART;TZID=Indian/Mauritius:20260329T073000
DTEND;TZID=Indian/Mauritius:20260329T113000
DTSTAMP:20260424T000031
CREATED:20260324T072930Z
LAST-MODIFIED:20260324T072930Z
UID:19210-1774769400-1774783800@justnaturalveg.com
SUMMARY:Call for Volunteers - we need your support!
DESCRIPTION:We are looking for passionate volunteers to help us prepare our gardens for the new growing season. \nHave you always wanted to know how to prepare garden beds? \nCome and join our team\, and learn while doing! \nRegister on WhatsApp 5721 3936. \nhttps://justnaturalveg.com/wp-content/uploads/2026/03/v1c044g50000d70ioavog65qsn6uudpg.mp4
URL:https://justnaturalveg.com/event/call-for-volunteers-we-need-your-support-2/
LOCATION:Just Natural
END:VEVENT
END:VCALENDAR